0.0854632610
0.0000000000
0.0000000000
-0.0859978911
6432894.8141255099
5663301.7713360097
