0.4287930609
0.0000000000
0.0000000000
-0.4262472405
6425519.9763090899
5661394.4001666903
