0.1717592293
0.0000000000
0.0000000000
-0.1711921963
6432429.3281914899
5660844.7085261298
