0.2104168166
0.0000000000
0.0000000000
-0.2087299165
6427961.4918695502
5669485.9921658803
