0.1730926357
0.0000000000
0.0000000000
-0.1711960128
6420792.3807536503
5670976.6965695098
