0.0850577987
0.0000000000
0.0000000000
-0.0871308217
6431058.8588471403
5663269.4978510803
