0.2587945640
0.0000000000
0.0000000000
-0.2562239327
6433826.0746903596
5666419.7597201597
