0.2440286645
0.0000000000
0.0000000000
-0.2686277356
6427490.0198771004
5668507.4278167496
