0.1718331245
0.0000000000
0.0000000000
-0.1711335833
6435513.4449063595
5664224.1853384404
