0.3332085820
0.0000000000
0.0000000000
-0.3333649805
6434116.4006625200
5666617.3356518401
