0.3085350405
0.0000000000
0.0000000000
-0.3039320671
6421979.5845514797
5672417.9673802098
