0.1731645787
0.0000000000
0.0000000000
-0.1706893623
6423478.1809202200
5673914.3086888902
